BEGIN:VCALENDAR
VERSION:2.0
PRODID:-//wp-events-plugin.com//7.2.3.1//EN
BEGIN:VEVENT
UID:3@antiguosalumnos.recuerdo.net
DTSTART:20181122T220000Z
DTEND:20181201T220000Z
DTSTAMP:20180925T093317Z
URL:https://antiguosalumnos.recuerdo.net/eventos/teatro-la-venganza-de-d-m
 endo-de-d-pedro-munoz-seca/
SUMMARY:TEATRO: “La Venganza de D. Mendo” de D. Pedro Muñoz-Seca
DESCRIPTION:Salón de actos: Representada por el grupo de teatro Recuerdo d
 e la Asociación Loyola.
CATEGORIES:teatro
LOCATION:Salón de Actos del Colegio Ntra. Sra. del Recuerdo\, Plaza Duque 
 de Pastrana 5\, Madrid\, España
X-APPLE-STRUCTURED-LOCATION;VALUE=URI;X-ADDRESS=Plaza Duque de Pastrana 5\,
  Madrid\, España;X-APPLE-RADIUS=100;X-TITLE=Salón de Actos del Colegio N
 tra. Sra. del Recuerdo:geo:0,0
END:VEVENT
END:VCALENDAR