BEGIN:VCALENDAR
VERSION:2.0
PRODID:-//wp-events-plugin.com//7.2.3.1//EN
BEGIN:VEVENT
UID:7@antiguosalumnos.recuerdo.net
DTSTART:20181023T180000Z
DTEND:20181023T190000Z
DTSTAMP:20181005T081954Z
URL:https://antiguosalumnos.recuerdo.net/eventos/oracion-por-las-vocacione
 s/
SUMMARY:Oración por las Vocaciones
DESCRIPTION:Capilla de San Ignacio
LOCATION:Colegio Ntra. Sra. del Recuerdo\, Plaza Duque de Pastrana 5\, Madr
 id\, España
X-APPLE-STRUCTURED-LOCATION;VALUE=URI;X-ADDRESS=Plaza Duque de Pastrana 5\,
  Madrid\, España;X-APPLE-RADIUS=100;X-TITLE=Colegio Ntra. Sra. del Recuer
 do:geo:0,0
END:VEVENT
END:VCALENDAR